BEGIN:VCALENDAR
VERSION:2.0
PRODID:-//pretix//pretix.eu//
BEGIN:VTIMEZONE
TZID:Europe/Rome
BEGIN:STANDARD
DTSTART:20001029T040000
RRULE:FREQ=YEARLY;BYDAY=-1SU;BYMONTH=10
TZNAME:CET
TZOFFSETFROM:+0200
TZOFFSETTO:+0100
END:STANDARD
BEGIN:DAYLIGHT
DTSTART:20000326T030000
RRULE:FREQ=YEARLY;BYDAY=-1SU;BYMONTH=3
TZNAME:CEST
TZOFFSETFROM:+0100
TZOFFSETTO:+0200
END:DAYLIGHT
END:VTIMEZONE
BEGIN:VEVENT
UID:pretix-hackinbo-HiB-C-WE-2025-0@tickets.hackinbo.it
DTSTART;TZID=Europe/Rome:20251115T090000
DTEND;TZID=Europe/Rome:20251115T180000
DESCRIPTION:Tickets: https://tickets.hackinbo.it/HiB-C-WE-2025/\nAdmission:
  15/11/2025 17:00\nOrganizer: HackInBo® Group Srl
DTSTAMP:20260420T222947Z
LOCATION:Grand Tour Italia (ex Fico)
SUMMARY:HackInBo® Classic Edition Winter 2025
END:VEVENT
END:VCALENDAR
